BEGIN:VCALENDAR
VERSION:2.0
PRODID:-//Citydex//Holiday//EN
BEGIN:VEVENT
UID:holiday-678@citydex.com
DTSTART;VALUE=DATE:20260506
DTEND;VALUE=DATE:20260507
SUMMARY:Saint George's Day
END:VEVENT
END:VCALENDAR
