BEGIN:VCALENDAR
VERSION:2.0
PRODID:-//Citydex//Holiday//EN
BEGIN:VEVENT
UID:holiday-1588@citydex.com
DTSTART;VALUE=DATE:20260724
DTEND;VALUE=DATE:20260725
SUMMARY:Simón Bolívar's Birthday
END:VEVENT
END:VCALENDAR
