BEGIN:VCALENDAR
VERSION:2.0
PRODID:-//Citydex//Holiday//EN
BEGIN:VEVENT
UID:holiday-714@citydex.com
DTSTART;VALUE=DATE:20260518
DTEND;VALUE=DATE:20260519
SUMMARY:Ascension Day
END:VEVENT
END:VCALENDAR
