BEGIN:VCALENDAR
VERSION:2.0
PRODID:-//Citydex//Holiday//EN
BEGIN:VEVENT
UID:holiday-752@citydex.com
DTSTART;VALUE=DATE:20260622
DTEND;VALUE=DATE:20260623
SUMMARY:Anti-Fascist Struggle Day
END:VEVENT
END:VCALENDAR
