BEGIN:VCALENDAR
VERSION:2.0
PRODID:-//Citydex//Holiday//EN
BEGIN:VEVENT
UID:holiday-1589@citydex.com
DTSTART;VALUE=DATE:20260725
DTEND;VALUE=DATE:20260726
SUMMARY:Day before the Commemoration of the Assault of the Moncada garrison
END:VEVENT
END:VCALENDAR
