BEGIN:VCALENDAR
VERSION:2.0
PRODID:-//Citydex//Holiday//EN
BEGIN:VEVENT
UID:holiday-1303@citydex.com
DTSTART;VALUE=DATE:20260419
DTEND;VALUE=DATE:20260420
SUMMARY:Beginning of the Independence Movement
END:VEVENT
END:VCALENDAR
