BEGIN:VCALENDAR
VERSION:2.0
PRODID:-//Citydex//Holiday//EN
BEGIN:VEVENT
UID:holiday-1595@citydex.com
DTSTART;VALUE=DATE:20260727
DTEND;VALUE=DATE:20260728
SUMMARY:Day after the Commemoration of the Assault of the Moncada garrison
END:VEVENT
END:VCALENDAR
